BEGIN:VCALENDAR
VERSION:2.0
PRODID:-// - ECPv6.15.20//NONSGML v1.0//EN
CALSCALE:GREGORIAN
METHOD:PUBLISH
X-ORIGINAL-URL:https://mustangranchbrothel.com
X-WR-CALDESC:Events for 
REFRESH-INTERVAL;VALUE=DURATION:PT1H
X-Robots-Tag:noindex
X-PUBLISHED-TTL:PT1H
BEGIN:VTIMEZONE
TZID:America/Los_Angeles
BEGIN:DAYLIGHT
TZOFFSETFROM:-0800
TZOFFSETTO:-0700
TZNAME:PDT
DTSTART:20240310T100000
END:DAYLIGHT
BEGIN:STANDARD
TZOFFSETFROM:-0700
TZOFFSETTO:-0800
TZNAME:PST
DTSTART:20241103T090000
END:STANDARD
BEGIN:DAYLIGHT
TZOFFSETFROM:-0800
TZOFFSETTO:-0700
TZNAME:PDT
DTSTART:20250309T100000
END:DAYLIGHT
BEGIN:STANDARD
TZOFFSETFROM:-0700
TZOFFSETTO:-0800
TZNAME:PST
DTSTART:20251102T090000
END:STANDARD
BEGIN:DAYLIGHT
TZOFFSETFROM:-0800
TZOFFSETTO:-0700
TZNAME:PDT
DTSTART:20260308T100000
END:DAYLIGHT
BEGIN:STANDARD
TZOFFSETFROM:-0700
TZOFFSETTO:-0800
TZNAME:PST
DTSTART:20261101T090000
END:STANDARD
END:VTIMEZONE
BEGIN:VEVENT
DTSTART;TZID=America/Los_Angeles:20251031T200000
DTEND;TZID=America/Los_Angeles:20251101T020000
DTSTAMP:20260419T160022
CREATED:20251021T181836Z
LAST-MODIFIED:20251021T182501Z
UID:10000501-1761940800-1761962400@mustangranchbrothel.com
SUMMARY:Sinners and Saints Halloween Party!
DESCRIPTION:Come and enjoy all we have to offer at the World Famous Mustang Ranch’s annual Sinners and Saints Halloween Party!! There will be a costume contest\, spooky food and drinks and of course\, the sexiest ladies you will ever meet! The party starts at 8pm on Friday October 31st. Come and find your boo 😉
URL:https://mustangranchbrothel.com/event/mustang_ranch_event_share-18/
LOCATION:Mustang Ranch Lounge\, 1000 Wild Horse Canyon Dr\, Sparks\, NV\, 89434\, United States
ATTACH;FMTTYPE=image/jpeg:https://mustangranchbrothel.com/wp-content/uploads/2025/10/Sinners_and_Saints_Halloween_Party-2025.jpg
END:VEVENT
END:VCALENDAR