BEGIN:VCALENDAR
VERSION:2.0
PRODID:-// - ECPv6.15.20//NONSGML v1.0//EN
CALSCALE:GREGORIAN
METHOD:PUBLISH
X-ORIGINAL-URL:https://mustangranchbrothel.com
X-WR-CALDESC:Events for 
REFRESH-INTERVAL;VALUE=DURATION:PT1H
X-Robots-Tag:noindex
X-PUBLISHED-TTL:PT1H
BEGIN:VTIMEZONE
TZID:UTC
BEGIN:STANDARD
TZOFFSETFROM:+0000
TZOFFSETTO:+0000
TZNAME:UTC
DTSTART:20230101T000000
END:STANDARD
END:VTIMEZONE
BEGIN:VTIMEZONE
TZID:America/Los_Angeles
BEGIN:DAYLIGHT
TZOFFSETFROM:-0800
TZOFFSETTO:-0700
TZNAME:PDT
DTSTART:20230312T100000
END:DAYLIGHT
BEGIN:STANDARD
TZOFFSETFROM:-0700
TZOFFSETTO:-0800
TZNAME:PST
DTSTART:20231105T090000
END:STANDARD
BEGIN:DAYLIGHT
TZOFFSETFROM:-0800
TZOFFSETTO:-0700
TZNAME:PDT
DTSTART:20240310T100000
END:DAYLIGHT
BEGIN:STANDARD
TZOFFSETFROM:-0700
TZOFFSETTO:-0800
TZNAME:PST
DTSTART:20241103T090000
END:STANDARD
BEGIN:DAYLIGHT
TZOFFSETFROM:-0800
TZOFFSETTO:-0700
TZNAME:PDT
DTSTART:20250309T100000
END:DAYLIGHT
BEGIN:STANDARD
TZOFFSETFROM:-0700
TZOFFSETTO:-0800
TZNAME:PST
DTSTART:20251102T090000
END:STANDARD
END:VTIMEZONE
BEGIN:VEVENT
DTSTART;VALUE=DATE:20241212
DTEND;VALUE=DATE:20241214
DTSTAMP:20260419T065932
CREATED:20241007T005436Z
LAST-MODIFIED:20241101T170638Z
UID:10000420-1733961600-1734134399@mustangranchbrothel.com
SUMMARY:Football Parties!
DESCRIPTION:Come and watch all your favorite teams every Thursday night\, all day Sunday and Monday nights with us at the World Famous Mustang Ranch!  There is nothing better than enjoying a football game with gorgeous girls all around! Everyone scores at our weekly football parties at the Ranch
URL:https://mustangranchbrothel.com/event/mustang_ranch_event_share-7/2024-12-12/
LOCATION:Mustang Ranch Lounge\, 1000 Wild Horse Canyon Dr\, Sparks\, NV\, 89434\, United States
ATTACH;FMTTYPE=image/jpeg:https://mustangranchbrothel.com/wp-content/uploads/2024/10/Football_Party.jpg
END:VEVENT
BEGIN:VEVENT
DTSTART;VALUE=DATE:20241209
DTEND;VALUE=DATE:20241211
DTSTAMP:20260419T065932
CREATED:20241007T005436Z
LAST-MODIFIED:20241101T170638Z
UID:10000419-1733702400-1733875199@mustangranchbrothel.com
SUMMARY:Football Parties!
DESCRIPTION:Come and watch all your favorite teams every Thursday night\, all day Sunday and Monday nights with us at the World Famous Mustang Ranch!  There is nothing better than enjoying a football game with gorgeous girls all around! Everyone scores at our weekly football parties at the Ranch
URL:https://mustangranchbrothel.com/event/mustang_ranch_event_share-7/2024-12-09/
LOCATION:Mustang Ranch Lounge\, 1000 Wild Horse Canyon Dr\, Sparks\, NV\, 89434\, United States
ATTACH;FMTTYPE=image/jpeg:https://mustangranchbrothel.com/wp-content/uploads/2024/10/Football_Party.jpg
END:VEVENT
BEGIN:VEVENT
DTSTART;VALUE=DATE:20241208
DTEND;VALUE=DATE:20241210
DTSTAMP:20260419T065932
CREATED:20241007T005436Z
LAST-MODIFIED:20241101T170638Z
UID:10000418-1733616000-1733788799@mustangranchbrothel.com
SUMMARY:Football Parties!
DESCRIPTION:Come and watch all your favorite teams every Thursday night\, all day Sunday and Monday nights with us at the World Famous Mustang Ranch!  There is nothing better than enjoying a football game with gorgeous girls all around! Everyone scores at our weekly football parties at the Ranch
URL:https://mustangranchbrothel.com/event/mustang_ranch_event_share-7/2024-12-08/
LOCATION:Mustang Ranch Lounge\, 1000 Wild Horse Canyon Dr\, Sparks\, NV\, 89434\, United States
ATTACH;FMTTYPE=image/jpeg:https://mustangranchbrothel.com/wp-content/uploads/2024/10/Football_Party.jpg
END:VEVENT
BEGIN:VEVENT
DTSTART;VALUE=DATE:20241205
DTEND;VALUE=DATE:20241207
DTSTAMP:20260419T065932
CREATED:20241007T005436Z
LAST-MODIFIED:20241101T170638Z
UID:10000417-1733356800-1733529599@mustangranchbrothel.com
SUMMARY:Football Parties!
DESCRIPTION:Come and watch all your favorite teams every Thursday night\, all day Sunday and Monday nights with us at the World Famous Mustang Ranch!  There is nothing better than enjoying a football game with gorgeous girls all around! Everyone scores at our weekly football parties at the Ranch
URL:https://mustangranchbrothel.com/event/mustang_ranch_event_share-7/2024-12-05/
LOCATION:Mustang Ranch Lounge\, 1000 Wild Horse Canyon Dr\, Sparks\, NV\, 89434\, United States
ATTACH;FMTTYPE=image/jpeg:https://mustangranchbrothel.com/wp-content/uploads/2024/10/Football_Party.jpg
END:VEVENT
BEGIN:VEVENT
DTSTART;VALUE=DATE:20241202
DTEND;VALUE=DATE:20241204
DTSTAMP:20260419T065932
CREATED:20241007T005436Z
LAST-MODIFIED:20241101T170638Z
UID:10000416-1733097600-1733270399@mustangranchbrothel.com
SUMMARY:Football Parties!
DESCRIPTION:Come and watch all your favorite teams every Thursday night\, all day Sunday and Monday nights with us at the World Famous Mustang Ranch!  There is nothing better than enjoying a football game with gorgeous girls all around! Everyone scores at our weekly football parties at the Ranch
URL:https://mustangranchbrothel.com/event/mustang_ranch_event_share-7/2024-12-02/
LOCATION:Mustang Ranch Lounge\, 1000 Wild Horse Canyon Dr\, Sparks\, NV\, 89434\, United States
ATTACH;FMTTYPE=image/jpeg:https://mustangranchbrothel.com/wp-content/uploads/2024/10/Football_Party.jpg
END:VEVENT
BEGIN:VEVENT
DTSTART;VALUE=DATE:20241201
DTEND;VALUE=DATE:20241203
DTSTAMP:20260419T065932
CREATED:20241007T005436Z
LAST-MODIFIED:20241101T170638Z
UID:10000415-1733011200-1733183999@mustangranchbrothel.com
SUMMARY:Football Parties!
DESCRIPTION:Come and watch all your favorite teams every Thursday night\, all day Sunday and Monday nights with us at the World Famous Mustang Ranch!  There is nothing better than enjoying a football game with gorgeous girls all around! Everyone scores at our weekly football parties at the Ranch
URL:https://mustangranchbrothel.com/event/mustang_ranch_event_share-7/2024-12-01/
LOCATION:Mustang Ranch Lounge\, 1000 Wild Horse Canyon Dr\, Sparks\, NV\, 89434\, United States
ATTACH;FMTTYPE=image/jpeg:https://mustangranchbrothel.com/wp-content/uploads/2024/10/Football_Party.jpg
END:VEVENT
BEGIN:VEVENT
DTSTART;VALUE=DATE:20241128
DTEND;VALUE=DATE:20241130
DTSTAMP:20260419T065932
CREATED:20241007T005436Z
LAST-MODIFIED:20241101T170638Z
UID:10000414-1732752000-1732924799@mustangranchbrothel.com
SUMMARY:Football Parties!
DESCRIPTION:Come and watch all your favorite teams every Thursday night\, all day Sunday and Monday nights with us at the World Famous Mustang Ranch!  There is nothing better than enjoying a football game with gorgeous girls all around! Everyone scores at our weekly football parties at the Ranch
URL:https://mustangranchbrothel.com/event/mustang_ranch_event_share-7/2024-11-28/
LOCATION:Mustang Ranch Lounge\, 1000 Wild Horse Canyon Dr\, Sparks\, NV\, 89434\, United States
ATTACH;FMTTYPE=image/jpeg:https://mustangranchbrothel.com/wp-content/uploads/2024/10/Football_Party.jpg
END:VEVENT
BEGIN:VEVENT
DTSTART;VALUE=DATE:20241125
DTEND;VALUE=DATE:20241127
DTSTAMP:20260419T065932
CREATED:20241007T005436Z
LAST-MODIFIED:20241101T170638Z
UID:10000413-1732492800-1732665599@mustangranchbrothel.com
SUMMARY:Football Parties!
DESCRIPTION:Come and watch all your favorite teams every Thursday night\, all day Sunday and Monday nights with us at the World Famous Mustang Ranch!  There is nothing better than enjoying a football game with gorgeous girls all around! Everyone scores at our weekly football parties at the Ranch
URL:https://mustangranchbrothel.com/event/mustang_ranch_event_share-7/2024-11-25/
LOCATION:Mustang Ranch Lounge\, 1000 Wild Horse Canyon Dr\, Sparks\, NV\, 89434\, United States
ATTACH;FMTTYPE=image/jpeg:https://mustangranchbrothel.com/wp-content/uploads/2024/10/Football_Party.jpg
END:VEVENT
BEGIN:VEVENT
DTSTART;VALUE=DATE:20241124
DTEND;VALUE=DATE:20241126
DTSTAMP:20260419T065932
CREATED:20241007T005436Z
LAST-MODIFIED:20241101T170638Z
UID:10000412-1732406400-1732579199@mustangranchbrothel.com
SUMMARY:Football Parties!
DESCRIPTION:Come and watch all your favorite teams every Thursday night\, all day Sunday and Monday nights with us at the World Famous Mustang Ranch!  There is nothing better than enjoying a football game with gorgeous girls all around! Everyone scores at our weekly football parties at the Ranch
URL:https://mustangranchbrothel.com/event/mustang_ranch_event_share-7/2024-11-24/
LOCATION:Mustang Ranch Lounge\, 1000 Wild Horse Canyon Dr\, Sparks\, NV\, 89434\, United States
ATTACH;FMTTYPE=image/jpeg:https://mustangranchbrothel.com/wp-content/uploads/2024/10/Football_Party.jpg
END:VEVENT
BEGIN:VEVENT
DTSTART;VALUE=DATE:20241121
DTEND;VALUE=DATE:20241123
DTSTAMP:20260419T065932
CREATED:20241007T005436Z
LAST-MODIFIED:20241101T170638Z
UID:10000411-1732147200-1732319999@mustangranchbrothel.com
SUMMARY:Football Parties!
DESCRIPTION:Come and watch all your favorite teams every Thursday night\, all day Sunday and Monday nights with us at the World Famous Mustang Ranch!  There is nothing better than enjoying a football game with gorgeous girls all around! Everyone scores at our weekly football parties at the Ranch
URL:https://mustangranchbrothel.com/event/mustang_ranch_event_share-7/2024-11-21/
LOCATION:Mustang Ranch Lounge\, 1000 Wild Horse Canyon Dr\, Sparks\, NV\, 89434\, United States
ATTACH;FMTTYPE=image/jpeg:https://mustangranchbrothel.com/wp-content/uploads/2024/10/Football_Party.jpg
END:VEVENT
BEGIN:VEVENT
DTSTART;VALUE=DATE:20241118
DTEND;VALUE=DATE:20241120
DTSTAMP:20260419T065932
CREATED:20241007T005436Z
LAST-MODIFIED:20241101T170638Z
UID:10000410-1731888000-1732060799@mustangranchbrothel.com
SUMMARY:Football Parties!
DESCRIPTION:Come and watch all your favorite teams every Thursday night\, all day Sunday and Monday nights with us at the World Famous Mustang Ranch!  There is nothing better than enjoying a football game with gorgeous girls all around! Everyone scores at our weekly football parties at the Ranch
URL:https://mustangranchbrothel.com/event/mustang_ranch_event_share-7/2024-11-18/
LOCATION:Mustang Ranch Lounge\, 1000 Wild Horse Canyon Dr\, Sparks\, NV\, 89434\, United States
ATTACH;FMTTYPE=image/jpeg:https://mustangranchbrothel.com/wp-content/uploads/2024/10/Football_Party.jpg
END:VEVENT
BEGIN:VEVENT
DTSTART;VALUE=DATE:20241117
DTEND;VALUE=DATE:20241119
DTSTAMP:20260419T065932
CREATED:20241007T005436Z
LAST-MODIFIED:20241101T170638Z
UID:10000409-1731801600-1731974399@mustangranchbrothel.com
SUMMARY:Football Parties!
DESCRIPTION:Come and watch all your favorite teams every Thursday night\, all day Sunday and Monday nights with us at the World Famous Mustang Ranch!  There is nothing better than enjoying a football game with gorgeous girls all around! Everyone scores at our weekly football parties at the Ranch
URL:https://mustangranchbrothel.com/event/mustang_ranch_event_share-7/2024-11-17/
LOCATION:Mustang Ranch Lounge\, 1000 Wild Horse Canyon Dr\, Sparks\, NV\, 89434\, United States
ATTACH;FMTTYPE=image/jpeg:https://mustangranchbrothel.com/wp-content/uploads/2024/10/Football_Party.jpg
END:VEVENT
BEGIN:VEVENT
DTSTART;TZID=America/Los_Angeles:20241115T200000
DTEND;TZID=America/Los_Angeles:20241116T030000
DTSTAMP:20260419T065932
CREATED:20241101T170415Z
LAST-MODIFIED:20241101T170701Z
UID:10000432-1731700800-1731726000@mustangranchbrothel.com
SUMMARY:Back to the 80's Party!
DESCRIPTION:Come and enjoy our “Back to the 80’s Party” night only at the World Famous Mustang Ranch!! There will be Karaoke and food and drink specials! No cover and of course the sexiest ladies you will ever party with! Party starts at 8pm on Friday November 15th 😉
URL:https://mustangranchbrothel.com/event/mustang_ranch_event_share-8/
LOCATION:Mustang Ranch Lounge\, 1000 Wild Horse Canyon Dr\, Sparks\, NV\, 89434\, United States
ATTACH;FMTTYPE=image/png:https://mustangranchbrothel.com/wp-content/uploads/2024/11/80s-party-24.png
END:VEVENT
BEGIN:VEVENT
DTSTART;TZID=UTC:20241115T200000
DTEND;TZID=UTC:20241116T020000
DTSTAMP:20260419T065932
CREATED:20240501T031201Z
LAST-MODIFIED:20241101T165253Z
UID:10000269-1731700800-1731722400@mustangranchbrothel.com
SUMMARY:Karaoke Night
DESCRIPTION:Every 3rd Friday of the month! Come and rock out with all of the World Famous Mustang Ranch ladies with our Karaoke Night! We have raffle prizes\, games and so much more 😉 Friday nights are great at exit 28!
URL:https://mustangranchbrothel.com/event/mustang_ranch_event_share-3/2024-11-15/
LOCATION:Mustang Ranch Lounge\, 1000 Wild Horse Canyon Dr\, Sparks\, NV\, 89434\, United States
ATTACH;FMTTYPE=image/jpeg:https://mustangranchbrothel.com/wp-content/uploads/2024/04/Mustang_rach_lounge_karaoke_nights-event.jpg
END:VEVENT
BEGIN:VEVENT
DTSTART;VALUE=DATE:20241114
DTEND;VALUE=DATE:20241116
DTSTAMP:20260419T065932
CREATED:20241007T005436Z
LAST-MODIFIED:20241101T170638Z
UID:10000408-1731542400-1731715199@mustangranchbrothel.com
SUMMARY:Football Parties!
DESCRIPTION:Come and watch all your favorite teams every Thursday night\, all day Sunday and Monday nights with us at the World Famous Mustang Ranch!  There is nothing better than enjoying a football game with gorgeous girls all around! Everyone scores at our weekly football parties at the Ranch
URL:https://mustangranchbrothel.com/event/mustang_ranch_event_share-7/2024-11-14/
LOCATION:Mustang Ranch Lounge\, 1000 Wild Horse Canyon Dr\, Sparks\, NV\, 89434\, United States
ATTACH;FMTTYPE=image/jpeg:https://mustangranchbrothel.com/wp-content/uploads/2024/10/Football_Party.jpg
END:VEVENT
BEGIN:VEVENT
DTSTART;VALUE=DATE:20241111
DTEND;VALUE=DATE:20241113
DTSTAMP:20260419T065932
CREATED:20241007T005436Z
LAST-MODIFIED:20241101T170638Z
UID:10000407-1731283200-1731455999@mustangranchbrothel.com
SUMMARY:Football Parties!
DESCRIPTION:Come and watch all your favorite teams every Thursday night\, all day Sunday and Monday nights with us at the World Famous Mustang Ranch!  There is nothing better than enjoying a football game with gorgeous girls all around! Everyone scores at our weekly football parties at the Ranch
URL:https://mustangranchbrothel.com/event/mustang_ranch_event_share-7/2024-11-11/
LOCATION:Mustang Ranch Lounge\, 1000 Wild Horse Canyon Dr\, Sparks\, NV\, 89434\, United States
ATTACH;FMTTYPE=image/jpeg:https://mustangranchbrothel.com/wp-content/uploads/2024/10/Football_Party.jpg
END:VEVENT
BEGIN:VEVENT
DTSTART;VALUE=DATE:20241110
DTEND;VALUE=DATE:20241112
DTSTAMP:20260419T065932
CREATED:20241007T005436Z
LAST-MODIFIED:20241101T170638Z
UID:10000406-1731196800-1731369599@mustangranchbrothel.com
SUMMARY:Football Parties!
DESCRIPTION:Come and watch all your favorite teams every Thursday night\, all day Sunday and Monday nights with us at the World Famous Mustang Ranch!  There is nothing better than enjoying a football game with gorgeous girls all around! Everyone scores at our weekly football parties at the Ranch
URL:https://mustangranchbrothel.com/event/mustang_ranch_event_share-7/2024-11-10/
LOCATION:Mustang Ranch Lounge\, 1000 Wild Horse Canyon Dr\, Sparks\, NV\, 89434\, United States
ATTACH;FMTTYPE=image/jpeg:https://mustangranchbrothel.com/wp-content/uploads/2024/10/Football_Party.jpg
END:VEVENT
BEGIN:VEVENT
DTSTART;VALUE=DATE:20241107
DTEND;VALUE=DATE:20241109
DTSTAMP:20260419T065932
CREATED:20241007T005436Z
LAST-MODIFIED:20241101T170638Z
UID:10000405-1730937600-1731110399@mustangranchbrothel.com
SUMMARY:Football Parties!
DESCRIPTION:Come and watch all your favorite teams every Thursday night\, all day Sunday and Monday nights with us at the World Famous Mustang Ranch!  There is nothing better than enjoying a football game with gorgeous girls all around! Everyone scores at our weekly football parties at the Ranch
URL:https://mustangranchbrothel.com/event/mustang_ranch_event_share-7/2024-11-07/
LOCATION:Mustang Ranch Lounge\, 1000 Wild Horse Canyon Dr\, Sparks\, NV\, 89434\, United States
ATTACH;FMTTYPE=image/jpeg:https://mustangranchbrothel.com/wp-content/uploads/2024/10/Football_Party.jpg
END:VEVENT
BEGIN:VEVENT
DTSTART;VALUE=DATE:20241104
DTEND;VALUE=DATE:20241106
DTSTAMP:20260419T065932
CREATED:20241007T005436Z
LAST-MODIFIED:20241101T170638Z
UID:10000404-1730678400-1730851199@mustangranchbrothel.com
SUMMARY:Football Parties!
DESCRIPTION:Come and watch all your favorite teams every Thursday night\, all day Sunday and Monday nights with us at the World Famous Mustang Ranch!  There is nothing better than enjoying a football game with gorgeous girls all around! Everyone scores at our weekly football parties at the Ranch
URL:https://mustangranchbrothel.com/event/mustang_ranch_event_share-7/2024-11-04/
LOCATION:Mustang Ranch Lounge\, 1000 Wild Horse Canyon Dr\, Sparks\, NV\, 89434\, United States
ATTACH;FMTTYPE=image/jpeg:https://mustangranchbrothel.com/wp-content/uploads/2024/10/Football_Party.jpg
END:VEVENT
BEGIN:VEVENT
DTSTART;VALUE=DATE:20241103
DTEND;VALUE=DATE:20241105
DTSTAMP:20260419T065932
CREATED:20241007T005436Z
LAST-MODIFIED:20241101T170638Z
UID:10000403-1730592000-1730764799@mustangranchbrothel.com
SUMMARY:Football Parties!
DESCRIPTION:Come and watch all your favorite teams every Thursday night\, all day Sunday and Monday nights with us at the World Famous Mustang Ranch!  There is nothing better than enjoying a football game with gorgeous girls all around! Everyone scores at our weekly football parties at the Ranch
URL:https://mustangranchbrothel.com/event/mustang_ranch_event_share-7/2024-11-03/
LOCATION:Mustang Ranch Lounge\, 1000 Wild Horse Canyon Dr\, Sparks\, NV\, 89434\, United States
ATTACH;FMTTYPE=image/jpeg:https://mustangranchbrothel.com/wp-content/uploads/2024/10/Football_Party.jpg
END:VEVENT
BEGIN:VEVENT
DTSTART;VALUE=DATE:20241031
DTEND;VALUE=DATE:20241102
DTSTAMP:20260419T065932
CREATED:20241007T005436Z
LAST-MODIFIED:20241101T170638Z
UID:10000402-1730332800-1730505599@mustangranchbrothel.com
SUMMARY:Football Parties!
DESCRIPTION:Come and watch all your favorite teams every Thursday night\, all day Sunday and Monday nights with us at the World Famous Mustang Ranch!  There is nothing better than enjoying a football game with gorgeous girls all around! Everyone scores at our weekly football parties at the Ranch
URL:https://mustangranchbrothel.com/event/mustang_ranch_event_share-7/2024-10-31/
LOCATION:Mustang Ranch Lounge\, 1000 Wild Horse Canyon Dr\, Sparks\, NV\, 89434\, United States
ATTACH;FMTTYPE=image/jpeg:https://mustangranchbrothel.com/wp-content/uploads/2024/10/Football_Party.jpg
END:VEVENT
BEGIN:VEVENT
DTSTART;VALUE=DATE:20241028
DTEND;VALUE=DATE:20241030
DTSTAMP:20260419T065932
CREATED:20241007T005436Z
LAST-MODIFIED:20241101T170638Z
UID:10000401-1730073600-1730246399@mustangranchbrothel.com
SUMMARY:Football Parties!
DESCRIPTION:Come and watch all your favorite teams every Thursday night\, all day Sunday and Monday nights with us at the World Famous Mustang Ranch!  There is nothing better than enjoying a football game with gorgeous girls all around! Everyone scores at our weekly football parties at the Ranch
URL:https://mustangranchbrothel.com/event/mustang_ranch_event_share-7/2024-10-28/
LOCATION:Mustang Ranch Lounge\, 1000 Wild Horse Canyon Dr\, Sparks\, NV\, 89434\, United States
ATTACH;FMTTYPE=image/jpeg:https://mustangranchbrothel.com/wp-content/uploads/2024/10/Football_Party.jpg
END:VEVENT
BEGIN:VEVENT
DTSTART;VALUE=DATE:20241027
DTEND;VALUE=DATE:20241029
DTSTAMP:20260419T065932
CREATED:20241007T005436Z
LAST-MODIFIED:20241101T170638Z
UID:10000400-1729987200-1730159999@mustangranchbrothel.com
SUMMARY:Football Parties!
DESCRIPTION:Come and watch all your favorite teams every Thursday night\, all day Sunday and Monday nights with us at the World Famous Mustang Ranch!  There is nothing better than enjoying a football game with gorgeous girls all around! Everyone scores at our weekly football parties at the Ranch
URL:https://mustangranchbrothel.com/event/mustang_ranch_event_share-7/2024-10-27/
LOCATION:Mustang Ranch Lounge\, 1000 Wild Horse Canyon Dr\, Sparks\, NV\, 89434\, United States
ATTACH;FMTTYPE=image/jpeg:https://mustangranchbrothel.com/wp-content/uploads/2024/10/Football_Party.jpg
END:VEVENT
BEGIN:VEVENT
DTSTART;TZID=America/Los_Angeles:20241026T200000
DTEND;TZID=America/Los_Angeles:20241027T020000
DTSTAMP:20260419T065932
CREATED:20241006T120424Z
LAST-MODIFIED:20241101T170740Z
UID:10000325-1729972800-1729994400@mustangranchbrothel.com
SUMMARY:Sinners and Saints Halloween Party
DESCRIPTION:Come and enjoy all we have to offer at the World Famous Mustang Ranch’s annual Sinners and Saints Halloween Party!! There will be a costume contest\, spooky food and drinks and of course\, the sexiest ladies you will ever meet! The party starts at 8pm on Saturday October 26th. Come and find your boo 😉
URL:https://mustangranchbrothel.com/event/mustang_ranch_event_share-6/
LOCATION:Mustang Ranch Lounge\, 1000 Wild Horse Canyon Dr\, Sparks\, NV\, 89434\, United States
ATTACH;FMTTYPE=image/jpeg:https://mustangranchbrothel.com/wp-content/uploads/2024/10/Halloween1.jpg
END:VEVENT
BEGIN:VEVENT
DTSTART;VALUE=DATE:20241024
DTEND;VALUE=DATE:20241026
DTSTAMP:20260419T065932
CREATED:20241007T005436Z
LAST-MODIFIED:20241101T170638Z
UID:10000399-1729728000-1729900799@mustangranchbrothel.com
SUMMARY:Football Parties!
DESCRIPTION:Come and watch all your favorite teams every Thursday night\, all day Sunday and Monday nights with us at the World Famous Mustang Ranch!  There is nothing better than enjoying a football game with gorgeous girls all around! Everyone scores at our weekly football parties at the Ranch
URL:https://mustangranchbrothel.com/event/mustang_ranch_event_share-7/2024-10-24/
LOCATION:Mustang Ranch Lounge\, 1000 Wild Horse Canyon Dr\, Sparks\, NV\, 89434\, United States
ATTACH;FMTTYPE=image/jpeg:https://mustangranchbrothel.com/wp-content/uploads/2024/10/Football_Party.jpg
END:VEVENT
BEGIN:VEVENT
DTSTART;VALUE=DATE:20241021
DTEND;VALUE=DATE:20241023
DTSTAMP:20260419T065932
CREATED:20241007T005436Z
LAST-MODIFIED:20241101T170638Z
UID:10000398-1729468800-1729641599@mustangranchbrothel.com
SUMMARY:Football Parties!
DESCRIPTION:Come and watch all your favorite teams every Thursday night\, all day Sunday and Monday nights with us at the World Famous Mustang Ranch!  There is nothing better than enjoying a football game with gorgeous girls all around! Everyone scores at our weekly football parties at the Ranch
URL:https://mustangranchbrothel.com/event/mustang_ranch_event_share-7/2024-10-21/
LOCATION:Mustang Ranch Lounge\, 1000 Wild Horse Canyon Dr\, Sparks\, NV\, 89434\, United States
ATTACH;FMTTYPE=image/jpeg:https://mustangranchbrothel.com/wp-content/uploads/2024/10/Football_Party.jpg
END:VEVENT
BEGIN:VEVENT
DTSTART;VALUE=DATE:20241020
DTEND;VALUE=DATE:20241022
DTSTAMP:20260419T065932
CREATED:20241007T005436Z
LAST-MODIFIED:20241101T170638Z
UID:10000397-1729382400-1729555199@mustangranchbrothel.com
SUMMARY:Football Parties!
DESCRIPTION:Come and watch all your favorite teams every Thursday night\, all day Sunday and Monday nights with us at the World Famous Mustang Ranch!  There is nothing better than enjoying a football game with gorgeous girls all around! Everyone scores at our weekly football parties at the Ranch
URL:https://mustangranchbrothel.com/event/mustang_ranch_event_share-7/2024-10-20/
LOCATION:Mustang Ranch Lounge\, 1000 Wild Horse Canyon Dr\, Sparks\, NV\, 89434\, United States
ATTACH;FMTTYPE=image/jpeg:https://mustangranchbrothel.com/wp-content/uploads/2024/10/Football_Party.jpg
END:VEVENT
BEGIN:VEVENT
DTSTART;TZID=UTC:20241018T200000
DTEND;TZID=UTC:20241019T020000
DTSTAMP:20260419T065932
CREATED:20240501T031201Z
LAST-MODIFIED:20241101T165253Z
UID:10000268-1729281600-1729303200@mustangranchbrothel.com
SUMMARY:Karaoke Night
DESCRIPTION:Every 3rd Friday of the month! Come and rock out with all of the World Famous Mustang Ranch ladies with our Karaoke Night! We have raffle prizes\, games and so much more 😉 Friday nights are great at exit 28!
URL:https://mustangranchbrothel.com/event/mustang_ranch_event_share-3/2024-10-18/
LOCATION:Mustang Ranch Lounge\, 1000 Wild Horse Canyon Dr\, Sparks\, NV\, 89434\, United States
ATTACH;FMTTYPE=image/jpeg:https://mustangranchbrothel.com/wp-content/uploads/2024/04/Mustang_rach_lounge_karaoke_nights-event.jpg
END:VEVENT
BEGIN:VEVENT
DTSTART;VALUE=DATE:20241017
DTEND;VALUE=DATE:20241019
DTSTAMP:20260419T065932
CREATED:20241007T005436Z
LAST-MODIFIED:20241101T170638Z
UID:10000396-1729123200-1729295999@mustangranchbrothel.com
SUMMARY:Football Parties!
DESCRIPTION:Come and watch all your favorite teams every Thursday night\, all day Sunday and Monday nights with us at the World Famous Mustang Ranch!  There is nothing better than enjoying a football game with gorgeous girls all around! Everyone scores at our weekly football parties at the Ranch
URL:https://mustangranchbrothel.com/event/mustang_ranch_event_share-7/2024-10-17/
LOCATION:Mustang Ranch Lounge\, 1000 Wild Horse Canyon Dr\, Sparks\, NV\, 89434\, United States
ATTACH;FMTTYPE=image/jpeg:https://mustangranchbrothel.com/wp-content/uploads/2024/10/Football_Party.jpg
END:VEVENT
BEGIN:VEVENT
DTSTART;VALUE=DATE:20241014
DTEND;VALUE=DATE:20241016
DTSTAMP:20260419T065932
CREATED:20241007T005436Z
LAST-MODIFIED:20241101T170638Z
UID:10000395-1728864000-1729036799@mustangranchbrothel.com
SUMMARY:Football Parties!
DESCRIPTION:Come and watch all your favorite teams every Thursday night\, all day Sunday and Monday nights with us at the World Famous Mustang Ranch!  There is nothing better than enjoying a football game with gorgeous girls all around! Everyone scores at our weekly football parties at the Ranch
URL:https://mustangranchbrothel.com/event/mustang_ranch_event_share-7/2024-10-14/
LOCATION:Mustang Ranch Lounge\, 1000 Wild Horse Canyon Dr\, Sparks\, NV\, 89434\, United States
ATTACH;FMTTYPE=image/jpeg:https://mustangranchbrothel.com/wp-content/uploads/2024/10/Football_Party.jpg
END:VEVENT
END:VCALENDAR