BEGIN:VCALENDAR
VERSION:2.0
PRODID:-// - ECPv6.15.20//NONSGML v1.0//EN
CALSCALE:GREGORIAN
METHOD:PUBLISH
X-ORIGINAL-URL:https://mustangranchbrothel.com
X-WR-CALDESC:Events for 
REFRESH-INTERVAL;VALUE=DURATION:PT1H
X-Robots-Tag:noindex
X-PUBLISHED-TTL:PT1H
BEGIN:VTIMEZONE
TZID:UTC
BEGIN:STANDARD
TZOFFSETFROM:+0000
TZOFFSETTO:+0000
TZNAME:UTC
DTSTART:20230101T000000
END:STANDARD
END:VTIMEZONE
BEGIN:VEVENT
DTSTART;VALUE=DATE:20241003
DTEND;VALUE=DATE:20241005
DTSTAMP:20260422T164811
CREATED:20241007T005436Z
LAST-MODIFIED:20241101T170638Z
UID:16729-1727913600-1728086399@mustangranchbrothel.com
SUMMARY:Football Parties!
DESCRIPTION:Come and watch all your favorite teams every Thursday night\, all day Sunday and Monday nights with us at the World Famous Mustang Ranch!  There is nothing better than enjoying a football game with gorgeous girls all around! Everyone scores at our weekly football parties at the Ranch
URL:https://mustangranchbrothel.com/event/mustang_ranch_event_share-7/
LOCATION:Mustang Ranch Lounge\, 1000 Wild Horse Canyon Dr\, Sparks\, NV\, 89434\, United States
ATTACH;FMTTYPE=image/jpeg:https://mustangranchbrothel.com/wp-content/uploads/2024/10/Football_Party.jpg
END:VEVENT
BEGIN:VEVENT
DTSTART;VALUE=DATE:20241003
DTEND;VALUE=DATE:20241005
DTSTAMP:20260422T164811
CREATED:20241007T005436Z
LAST-MODIFIED:20241101T170638Z
UID:16729-1727913600-1728086399@mustangranchbrothel.com
SUMMARY:Football Parties!
DESCRIPTION:Come and watch all your favorite teams every Thursday night\, all day Sunday and Monday nights with us at the World Famous Mustang Ranch!  There is nothing better than enjoying a football game with gorgeous girls all around! Everyone scores at our weekly football parties at the Ranch
URL:https://mustangranchbrothel.com/event/mustang_ranch_event_share-7/
LOCATION:Mustang Ranch Lounge\, 1000 Wild Horse Canyon Dr\, Sparks\, NV\, 89434\, United States
ATTACH;FMTTYPE=image/jpeg:https://mustangranchbrothel.com/wp-content/uploads/2024/10/Football_Party.jpg
END:VEVENT
BEGIN:VEVENT
DTSTART;VALUE=DATE:20241003
DTEND;VALUE=DATE:20241005
DTSTAMP:20260422T164811
CREATED:20241007T005436Z
LAST-MODIFIED:20241101T170638Z
UID:16729-1727913600-1728086399@mustangranchbrothel.com
SUMMARY:Football Parties!
DESCRIPTION:Come and watch all your favorite teams every Thursday night\, all day Sunday and Monday nights with us at the World Famous Mustang Ranch!  There is nothing better than enjoying a football game with gorgeous girls all around! Everyone scores at our weekly football parties at the Ranch
URL:https://mustangranchbrothel.com/event/mustang_ranch_event_share-7/
LOCATION:Mustang Ranch Lounge\, 1000 Wild Horse Canyon Dr\, Sparks\, NV\, 89434\, United States
ATTACH;FMTTYPE=image/jpeg:https://mustangranchbrothel.com/wp-content/uploads/2024/10/Football_Party.jpg
END:VEVENT
BEGIN:VEVENT
DTSTART;VALUE=DATE:20241003
DTEND;VALUE=DATE:20241005
DTSTAMP:20260422T164811
CREATED:20241007T005436Z
LAST-MODIFIED:20241101T170638Z
UID:16729-1727913600-1728086399@mustangranchbrothel.com
SUMMARY:Football Parties!
DESCRIPTION:Come and watch all your favorite teams every Thursday night\, all day Sunday and Monday nights with us at the World Famous Mustang Ranch!  There is nothing better than enjoying a football game with gorgeous girls all around! Everyone scores at our weekly football parties at the Ranch
URL:https://mustangranchbrothel.com/event/mustang_ranch_event_share-7/
LOCATION:Mustang Ranch Lounge\, 1000 Wild Horse Canyon Dr\, Sparks\, NV\, 89434\, United States
ATTACH;FMTTYPE=image/jpeg:https://mustangranchbrothel.com/wp-content/uploads/2024/10/Football_Party.jpg
END:VEVENT
BEGIN:VEVENT
DTSTART;VALUE=DATE:20241003
DTEND;VALUE=DATE:20241005
DTSTAMP:20260422T164811
CREATED:20241007T005436Z
LAST-MODIFIED:20241101T170638Z
UID:16729-1727913600-1728086399@mustangranchbrothel.com
SUMMARY:Football Parties!
DESCRIPTION:Come and watch all your favorite teams every Thursday night\, all day Sunday and Monday nights with us at the World Famous Mustang Ranch!  There is nothing better than enjoying a football game with gorgeous girls all around! Everyone scores at our weekly football parties at the Ranch
URL:https://mustangranchbrothel.com/event/mustang_ranch_event_share-7/
LOCATION:Mustang Ranch Lounge\, 1000 Wild Horse Canyon Dr\, Sparks\, NV\, 89434\, United States
ATTACH;FMTTYPE=image/jpeg:https://mustangranchbrothel.com/wp-content/uploads/2024/10/Football_Party.jpg
END:VEVENT
BEGIN:VEVENT
DTSTART;TZID=UTC:20240621T200000
DTEND;TZID=UTC:20240622T020000
DTSTAMP:20260422T164811
CREATED:20240501T031201Z
LAST-MODIFIED:20241101T165253Z
UID:13451-1719000000-1719021600@mustangranchbrothel.com
SUMMARY:Karaoke Night
DESCRIPTION:Every 3rd Friday of the month! Come and rock out with all of the World Famous Mustang Ranch ladies with our Karaoke Night! We have raffle prizes\, games and so much more 😉 Friday nights are great at exit 28!
URL:https://mustangranchbrothel.com/event/mustang_ranch_event_share-3/
LOCATION:Mustang Ranch Lounge\, 1000 Wild Horse Canyon Dr\, Sparks\, NV\, 89434\, United States
ATTACH;FMTTYPE=image/jpeg:https://mustangranchbrothel.com/wp-content/uploads/2024/04/Mustang_rach_lounge_karaoke_nights-event.jpg
END:VEVENT
BEGIN:VEVENT
DTSTART;TZID=UTC:20240621T200000
DTEND;TZID=UTC:20240622T020000
DTSTAMP:20260422T164811
CREATED:20240501T031201Z
LAST-MODIFIED:20241101T165253Z
UID:13451-1719000000-1719021600@mustangranchbrothel.com
SUMMARY:Karaoke Night
DESCRIPTION:Every 3rd Friday of the month! Come and rock out with all of the World Famous Mustang Ranch ladies with our Karaoke Night! We have raffle prizes\, games and so much more 😉 Friday nights are great at exit 28!
URL:https://mustangranchbrothel.com/event/mustang_ranch_event_share-3/
LOCATION:Mustang Ranch Lounge\, 1000 Wild Horse Canyon Dr\, Sparks\, NV\, 89434\, United States
ATTACH;FMTTYPE=image/jpeg:https://mustangranchbrothel.com/wp-content/uploads/2024/04/Mustang_rach_lounge_karaoke_nights-event.jpg
END:VEVENT
BEGIN:VEVENT
DTSTART;TZID=UTC:20240621T200000
DTEND;TZID=UTC:20240622T020000
DTSTAMP:20260422T164811
CREATED:20240501T031201Z
LAST-MODIFIED:20241101T165253Z
UID:13451-1719000000-1719021600@mustangranchbrothel.com
SUMMARY:Karaoke Night
DESCRIPTION:Every 3rd Friday of the month! Come and rock out with all of the World Famous Mustang Ranch ladies with our Karaoke Night! We have raffle prizes\, games and so much more 😉 Friday nights are great at exit 28!
URL:https://mustangranchbrothel.com/event/mustang_ranch_event_share-3/
LOCATION:Mustang Ranch Lounge\, 1000 Wild Horse Canyon Dr\, Sparks\, NV\, 89434\, United States
ATTACH;FMTTYPE=image/jpeg:https://mustangranchbrothel.com/wp-content/uploads/2024/04/Mustang_rach_lounge_karaoke_nights-event.jpg
END:VEVENT
BEGIN:VEVENT
DTSTART;TZID=UTC:20240621T200000
DTEND;TZID=UTC:20240622T020000
DTSTAMP:20260422T164811
CREATED:20240501T031201Z
LAST-MODIFIED:20241101T165253Z
UID:13451-1719000000-1719021600@mustangranchbrothel.com
SUMMARY:Karaoke Night
DESCRIPTION:Every 3rd Friday of the month! Come and rock out with all of the World Famous Mustang Ranch ladies with our Karaoke Night! We have raffle prizes\, games and so much more 😉 Friday nights are great at exit 28!
URL:https://mustangranchbrothel.com/event/mustang_ranch_event_share-3/
LOCATION:Mustang Ranch Lounge\, 1000 Wild Horse Canyon Dr\, Sparks\, NV\, 89434\, United States
ATTACH;FMTTYPE=image/jpeg:https://mustangranchbrothel.com/wp-content/uploads/2024/04/Mustang_rach_lounge_karaoke_nights-event.jpg
END:VEVENT
BEGIN:VEVENT
DTSTART;TZID=UTC:20240601T190000
DTEND;TZID=UTC:20240602T020000
DTSTAMP:20260422T164811
CREATED:20240521T225332Z
LAST-MODIFIED:20240522T230828Z
UID:13827-1717268400-1717293600@mustangranchbrothel.com
SUMMARY:Comedy Night
DESCRIPTION:Headliner “Chicago” Steve Barkley: Comedian\, Actor\, and Writer Chicago Steve Barkley has been performing comedy around the world for many years. You have seen him on HBO\, Showtime\, and he was a $10\,000 winner on America’s Funniest People. \nChicago Steve has performed with Robin Williams\, Jerry Seinfeld\, Jay Leno\, and Kevin Pollack. \nFeature: Gabriel Alexander is a regular at the Laughs Unlimited Comedy Club\, and has also performed at Punchline Sacramento\, Alameda Comedy Club\, Cobbs Comedy Club and the Fandango Comedy Club. \nHost: Brian Lee. Comedy’s Last Alpha Male has performed at The Improv\, The Punchline\, Delirious Comedy Club\, and for the troops overseas in the Middle East and the UK.
URL:https://mustangranchbrothel.com/event/mustang_ranch_event_share-5/
LOCATION:Mustang Ranch Lounge\, 1000 Wild Horse Canyon Dr\, Sparks\, NV\, 89434\, United States
ATTACH;FMTTYPE=image/jpeg:https://mustangranchbrothel.com/wp-content/uploads/2024/05/Comedy-Show-Tix2.jpg
END:VEVENT
BEGIN:VEVENT
DTSTART;TZID=UTC:20240517T200000
DTEND;TZID=UTC:20240520T020000
DTSTAMP:20260422T164811
CREATED:20240503T032641Z
LAST-MODIFIED:20240503T032721Z
UID:13507-1715976000-1716170400@mustangranchbrothel.com
SUMMARY:Military Appreciation Night
DESCRIPTION:Friday Night Karaoke this month will also be our Military Appreciation Night! Show your Military or Veterans ID and get $2 of domestic and draft beer and half off all Appetizers all weekend long!! Come join us for raffle prizes\, games and fun….and of course all the girls\, girls girls!!!
URL:https://mustangranchbrothel.com/event/mustang_ranch_event_share-4/
LOCATION:Mustang Ranch Lounge\, 1000 Wild Horse Canyon Dr\, Sparks\, NV\, 89434\, United States
ATTACH;FMTTYPE=image/jpeg:https://mustangranchbrothel.com/wp-content/uploads/2024/05/Karaoke-M.jpg
END:VEVENT
BEGIN:VEVENT
DTSTART;TZID=UTC:20240504T200000
DTEND;TZID=UTC:20240505T020000
DTSTAMP:20260422T164811
CREATED:20240501T025317Z
LAST-MODIFIED:20240501T025338Z
UID:13442-1714852800-1714874400@mustangranchbrothel.com
SUMMARY:Cinco De Mayo
DESCRIPTION:Come and celebrate Cinco De Mayo with the beautiful ladies of the World Famous Mustang Ranch! Enjoy our Tex Mex Sampler Platter\, Blackberry Margaritas\, Karaoke and more! The party starts this Saturday night at 8pm!
URL:https://mustangranchbrothel.com/event/mustang_ranch_event_share/
LOCATION:Mustang Ranch Lounge\, 1000 Wild Horse Canyon Dr\, Sparks\, NV\, 89434\, United States
ATTACH;FMTTYPE=image/jpeg:https://mustangranchbrothel.com/wp-content/uploads/2024/04/Cinco-De-Mayo-event.jpg
END:VEVENT
END:VCALENDAR